BEGIN:VCALENDAR
VERSION:2.0
PRODID:icalendar-ruby
CALSCALE:GREGORIAN
METHOD:PUBLISH
BEGIN:VEVENT
DTSTAMP:20260425T143640Z
UID:6-315910@barrsmillchurch.org
DTSTART:20261101T153000Z
DTEND:20261101T163000Z
CLASS:PUBLIC
CREATED:20260425T075552
DESCRIPTION:Join us for our Sunday Morning Worship Service.  \nOur worshi
 p service is a combination of both traditional and contemporary songs.  S
 ermons are Bible-based and applicable to our daily walk with God.  The se
 rvice closes with singing\, prayer and an altar call.
LAST-MODIFIED:20260425T075552
LOCATION:
SUMMARY:Worship Service
URL;VALUE=URI:https://barrsmillchurch.org/events/worship-service--6/2026-11
 -01
ATTACH;FILENAME=Sunday-Morning-Worship-Image.jpg;FMTTYPE=image/jpeg:https:/
 /dq5pwpg1q8ru0.cloudfront.net/2024/01/31/14/07/02/fa74b60f-7911-42af-a637-
 370096920df6/Sunday-Morning-Worship-Image.jpg
END:VEVENT
END:VCALENDAR
